BEGIN:VCALENDAR
VERSION:2.0
PRODID:-//TACP Foundation, 501(c)(3) - ECPv6.15.18//NONSGML v1.0//EN
CALSCALE:GREGORIAN
METHOD:PUBLISH
X-WR-CALNAME:TACP Foundation, 501(c)(3)
X-ORIGINAL-URL:https://tacpfoundation.org
X-WR-CALDESC:Events for TACP Foundation, 501(c)(3)
REFRESH-INTERVAL;VALUE=DURATION:PT1H
X-Robots-Tag:noindex
X-PUBLISHED-TTL:PT1H
BEGIN:VTIMEZONE
TZID:America/Chicago
BEGIN:DAYLIGHT
TZOFFSETFROM:-0600
TZOFFSETTO:-0500
TZNAME:CDT
DTSTART:20250309T080000
END:DAYLIGHT
BEGIN:STANDARD
TZOFFSETFROM:-0500
TZOFFSETTO:-0600
TZNAME:CST
DTSTART:20251102T070000
END:STANDARD
BEGIN:DAYLIGHT
TZOFFSETFROM:-0600
TZOFFSETTO:-0500
TZNAME:CDT
DTSTART:20260308T080000
END:DAYLIGHT
BEGIN:STANDARD
TZOFFSETFROM:-0500
TZOFFSETTO:-0600
TZNAME:CST
DTSTART:20261101T070000
END:STANDARD
BEGIN:DAYLIGHT
TZOFFSETFROM:-0600
TZOFFSETTO:-0500
TZNAME:CDT
DTSTART:20270314T080000
END:DAYLIGHT
BEGIN:STANDARD
TZOFFSETFROM:-0500
TZOFFSETTO:-0600
TZNAME:CST
DTSTART:20271107T070000
END:STANDARD
END:VTIMEZONE
BEGIN:VEVENT
DTSTART;VALUE=DATE:20260417
DTEND;VALUE=DATE:20260419
DTSTAMP:20260420T044904
CREATED:20260313T212607Z
LAST-MODIFIED:20260313T212915Z
UID:7036-1776384000-1776556799@tacpfoundation.org
SUMMARY:TACP Foundation Golf Cup
DESCRIPTION:Come join us for the inaugural TACP Foundation Golf Cup Weekend\, beginning with our beachfront Sunset Luau Social (April 17\, 2026) and culminating in a golf tournament (April 18\, 2026).\nThe Sunset Luau Social is the official kickoff to the weekend\, a relaxed beachfront evening bringing together event sponsors\, donors\, players\, supporters\, and Gold Star families ahead of tournament play.  Come play our Gift Bag game\, bid on amazing Silent Auction items\, enjoy lawn games\, delicious dinner and S’Mores\, and get your hula on!\nThe weekend continues Saturday with the inaugural TACP Foundation Golf Cup\, our Four-Person Shotgun Best Ball golf tournament\, including breakfast and lunch\, Par 3 challenges\, Men’s and Women’s Longest Drive contests\, on-course cocktails\, a 19th Hole Celebration\, and an awards ceremony. \nSunset + Golf + Purpose.\nYour perfect weekend in support of the TACP Foundation awaits. \nPar 3 Challenges\nMen’s and Women’s Longest Drive\nOn-Course Cocktails\nSunset Luau Social – Friday\, April 17\, 2026\nThe Island Resort\n1500 Miracle Strip Pkwy SEFort Walton Beach\, FL 32548 \nEvent Starts: 5:30 PM\nEvent Ends: 8:30 PM \nTACP Foundation Golf Cup – Saturday\, April 18\, 2026\nShalimar Pointe Golf Club\n302 Country Club RoadShalimar\, FL 32579 \nRegistration: 7:30 AM\nBreakfast: 8:00 AM\nShotgun Start: 9:00 AM\nLunch at the Turn: 11:00 AM\n19th Hole Reception: 2:00 PM Heavy Hors d’Oeuvres & Hosted Cocktails at Clubhouse\nAwards Ceremony: 2:30 PM Silent Auction\, Team & Contest Winners
URL:https://tacpfoundation.org/event/tacp-foundation-golf-cup/
LOCATION:Shalimar Pointe Golf Club\, 302 Country Club Road\, Shalimar\, FL\, 32579\, United States
CATEGORIES:Golf
ATTACH;FMTTYPE=image/jpeg:https://tacpfoundation.org/wp-content/uploads/2026/03/tacpf_golfcup.jpg
ORGANIZER;CN="Alisha and Brittni":MAILTO:travel@tacpf.org
END:VEVENT
END:VCALENDAR