BEGIN:VCALENDAR
VERSION:2.0
PRODID:-//TACP Foundation, 501(c)(3) - ECPv6.15.18//NONSGML v1.0//EN
CALSCALE:GREGORIAN
METHOD:PUBLISH
X-WR-CALNAME:TACP Foundation, 501(c)(3)
X-ORIGINAL-URL:https://tacpfoundation.org
X-WR-CALDESC:Events for TACP Foundation, 501(c)(3)
REFRESH-INTERVAL;VALUE=DURATION:PT1H
X-Robots-Tag:noindex
X-PUBLISHED-TTL:PT1H
BEGIN:VTIMEZONE
TZID:America/Chicago
BEGIN:DAYLIGHT
TZOFFSETFROM:-0600
TZOFFSETTO:-0500
TZNAME:CDT
DTSTART:20250309T080000
END:DAYLIGHT
BEGIN:STANDARD
TZOFFSETFROM:-0500
TZOFFSETTO:-0600
TZNAME:CST
DTSTART:20251102T070000
END:STANDARD
BEGIN:DAYLIGHT
TZOFFSETFROM:-0600
TZOFFSETTO:-0500
TZNAME:CDT
DTSTART:20260308T080000
END:DAYLIGHT
BEGIN:STANDARD
TZOFFSETFROM:-0500
TZOFFSETTO:-0600
TZNAME:CST
DTSTART:20261101T070000
END:STANDARD
BEGIN:DAYLIGHT
TZOFFSETFROM:-0600
TZOFFSETTO:-0500
TZNAME:CDT
DTSTART:20270314T080000
END:DAYLIGHT
BEGIN:STANDARD
TZOFFSETFROM:-0500
TZOFFSETTO:-0600
TZNAME:CST
DTSTART:20271107T070000
END:STANDARD
END:VTIMEZONE
BEGIN:VEVENT
DTSTART;VALUE=DATE:20260501
DTEND;VALUE=DATE:20260502
DTSTAMP:20260424T113002
CREATED:20260423T013543Z
LAST-MODIFIED:20260423T014041Z
UID:7108-1777593600-1777679999@tacpfoundation.org
SUMMARY:Trucking for a Cause Golf Tournament
DESCRIPTION:Proceeds from event support the TACP Foundation. \n$300 per player or $800 per team. \nSponsorship: \n$200 Hole Sponsor: logo on sign at hole \n$2\,500 Signature Sponsor: Team\, Name on Corp banner \n$5\,000 Corporate Sponsor: Team shirt with company logo \n$10\,000 Partner Sponsor: Name announced no all social media & news outlets\, name on all hole sponsor signs
URL:https://tacpfoundation.org/event/trucking-for-a-cause-gold-tournament/
LOCATION:Crosswinds Gold Course\, 232 James B Blackburn Dr\, Savannah\, GA\, 31408\, United States
CATEGORIES:Golf
ATTACH;FMTTYPE=image/png:https://tacpfoundation.org/wp-content/uploads/2026/04/Screenshot-2026-04-21-at-9.37.52-PM.png
END:VEVENT
END:VCALENDAR